BEGIN:VCALENDAR
VERSION:2.0
PRODID:-//DIGITAL FACTORY//EVENTS MAKER V1.6.14//EN
CALSCALE:GREGORIAN
BEGIN:VEVENT
DTEND:20241214T210000Z
UID:69e735c7a3fc4
DTSTAMP:20260421T083103Z
CATEGORIES:Hockey
DESCRIPTION:&nbsp\;
URL;VALUE=URI:https://bietigheimer-htc.de/events/event/1-tag-3-spiele-und-vieles-mehr/
SUMMARY:1 Tag\, 3 Spiele und vieles mehr
DTSTART:20241214T130000Z
END:VEVENT
END:VCALENDAR
