BEGIN:VCALENDAR
VERSION:2.0
PRODID:-//DIGITAL FACTORY//EVENTS MAKER V1.6.14//EN
CALSCALE:GREGORIAN
BEGIN:VEVENT
DTEND:20201219T140000Z
UID:69ecba83ee768
DTSTAMP:20260425T125843Z
CATEGORIES:Hockey\,Verein
LOCATION:Breslauerstr. 5 
ORGANIZER;
DESCRIPTION:Hockey meets Weihnachtsbaum  Der Bietigheimer HTC veranstaltet zum 3. mal einen Weihnachtsbaumverkauf    Der Verkaufsstand dieses Jahr am Fahrradübungsplatz an der Buchschule    (oberer Parkplatz)  in der Breslauerstr. 5.    Der Verkaufsstand wird von 9-15Uhr geöffnet sein.    Alle Informationen auf einer Seite findet ihr auf unserem Flyer: Weihnachtsbaumverkauf
URL;VALUE=URI:https://bietigheimer-htc.de/events/event/3-weihnachtsbaumverkauf-beim-bhtc/
SUMMARY:3. Baumverkauf beim BHTC
DTSTART:20201219T080000Z
END:VEVENT
END:VCALENDAR
